BEGIN:VCALENDAR
VERSION:2.0
PRODID:SchoolNow
CALSCALE:GREGORIAN
BEGIN:VEVENT
UID:0f6c1f0c-bfe8-11f0-a4cd-0a58a9feac02
DTSTAMP:20251112T165306Z
SUMMARY:Intramurals
URL;VALUE=URI:https://www.arbor145.org/apms/calendar/8792002/intramurals
DTSTART:20260304T130500Z
DTEND:20260304T134500Z
END:VEVENT
END:VCALENDAR
