BEGIN:VCALENDAR
VERSION:2.0
PRODID:SchoolNow
CALSCALE:GREGORIAN
BEGIN:VEVENT
UID:9192d99e-bfe8-11f0-b5d9-0a58a9feac02
DTSTAMP:20251112T165644Z
SUMMARY:Intramurals
URL;VALUE=URI:https://www.arbor145.org/apms/calendar/8792003/intramurals
DTSTART:20260318T120500Z
DTEND:20260318T124500Z
END:VEVENT
END:VCALENDAR
