BEGIN:VCALENDAR
VERSION:2.0
PRODID:SchoolNow
CALSCALE:GREGORIAN
BEGIN:VEVENT
UID:ae25001e-bfe8-11f0-8d2d-0a58a9feac02
DTSTAMP:20251112T165732Z
SUMMARY:Intramurals
URL;VALUE=URI:https://www.arbor145.org/apms/calendar/8792004/intramurals
DTSTART:20260401T120500Z
DTEND:20260401T124500Z
END:VEVENT
END:VCALENDAR
