BEGIN:VCALENDAR
VERSION:2.0
PRODID:SchoolNow
CALSCALE:GREGORIAN
BEGIN:VEVENT
UID:49b84e82-bfe9-11f0-b094-029f6d02c50d
DTSTAMP:20251112T170153Z
SUMMARY:Intramurals
URL;VALUE=URI:https://www.arbor145.org/apms/calendar/8792066/intramurals
DTSTART:20260415T120500Z
DTEND:20260415T124500Z
END:VEVENT
END:VCALENDAR
