BEGIN:VCALENDAR
VERSION:2.0
PRODID:SchoolNow
CALSCALE:GREGORIAN
BEGIN:VEVENT
UID:d86294f8-bfe9-11f0-92ff-0a58a9feac02
DTSTAMP:20251112T170552Z
SUMMARY:Intramurals
URL;VALUE=URI:https://www.arbor145.org/apms/calendar/8792067/intramurals
DTSTART:20260429T120500Z
DTEND:20260429T124500Z
END:VEVENT
END:VCALENDAR
