BEGIN:VCALENDAR
VERSION:2.0
PRODID:SchoolNow
CALSCALE:GREGORIAN
BEGIN:VEVENT
UID:de6ec0d4-c3f3-11f0-baee-0affc609c813
DTSTAMP:20251117T202742Z
SUMMARY:8th grade boys basketball practice
LOCATION:APMS MAIN GYM
URL;VALUE=URI:https://www.arbor145.org/apms/calendar/8800304/8th-grade-boys
 -basketball-practice
DTSTART:20260302T203000Z
DTEND:20260302T220000Z
END:VEVENT
END:VCALENDAR
