BEGIN:VCALENDAR
VERSION:2.0
PRODID:SchoolNow
CALSCALE:GREGORIAN
BEGIN:VEVENT
UID:0452002c-c3f4-11f0-963b-0affc38c0b45
DTSTAMP:20251117T202846Z
SUMMARY:8th grade boys basketball practice
LOCATION:APMS SMALL GYM
URL;VALUE=URI:https://www.arbor145.org/apms/calendar/8800305/8th-grade-boys
 -basketball-practice
DTSTART:20260304T203000Z
DTEND:20260304T220000Z
END:VEVENT
END:VCALENDAR
