BEGIN:VCALENDAR
VERSION:2.0
PRODID:SchoolNow
CALSCALE:GREGORIAN
BEGIN:VEVENT
UID:1fa60346-c3f4-11f0-b2bb-0a58a9feac02
DTSTAMP:20251117T202931Z
SUMMARY:8th grade boys basketball practice
LOCATION:APMS MAIN GYM
URL;VALUE=URI:https://www.arbor145.org/apms/calendar/8800306/8th-grade-boys
 -basketball-practice
DTSTART:20260306T203000Z
DTEND:20260306T220000Z
END:VEVENT
END:VCALENDAR
