BEGIN:VCALENDAR
VERSION:2.0
PRODID:SchoolNow
CALSCALE:GREGORIAN
BEGIN:VEVENT
UID:817b8870-c3f4-11f0-b1a3-0affc609c813
DTSTAMP:20251117T203216Z
SUMMARY:8th grade boys basketball practice
LOCATION:APMS MAIN GYM
URL;VALUE=URI:https://www.arbor145.org/apms/calendar/8800307/8th-grade-boys
 -basketball-practice
DTSTART:20260309T193000Z
DTEND:20260309T210000Z
END:VEVENT
END:VCALENDAR
