BEGIN:VCALENDAR
VERSION:2.0
PRODID:SchoolNow
CALSCALE:GREGORIAN
BEGIN:VEVENT
UID:93b17ef0-cfbb-11f0-8065-0a58a9feac02
DTSTAMP:20251202T201459Z
SUMMARY:Gaming Club
LOCATION:APMS Media Center
URL;VALUE=URI:https://www.arbor145.org/apms/calendar/8815777/gaming-club
DTSTART:20260304T203000Z
DTEND:20260304T214000Z
END:VEVENT
END:VCALENDAR
