BEGIN:VCALENDAR
VERSION:2.0
PRODID:SchoolNow
CALSCALE:GREGORIAN
BEGIN:VEVENT
UID:a9158660-cfbb-11f0-900e-0a58a9feac02
DTSTAMP:20251202T201535Z
SUMMARY:Gaming Club
LOCATION:APMS Media Center
URL;VALUE=URI:https://www.arbor145.org/apms/calendar/8815778/gaming-club
DTSTART:20260311T193000Z
DTEND:20260311T204000Z
END:VEVENT
END:VCALENDAR
