BEGIN:VCALENDAR
VERSION:2.0
PRODID:SchoolNow
CALSCALE:GREGORIAN
BEGIN:VEVENT
UID:c18c654c-cfbb-11f0-a830-0a58a9feac02
DTSTAMP:20251202T201616Z
SUMMARY:Gaming Club
LOCATION:APMS Media Center
URL;VALUE=URI:https://www.arbor145.org/apms/calendar/8815779/gaming-club
DTSTART:20260318T193000Z
DTEND:20260318T204000Z
END:VEVENT
END:VCALENDAR
