BEGIN:VCALENDAR
VERSION:2.0
PRODID:SchoolNow
CALSCALE:GREGORIAN
BEGIN:VEVENT
UID:da8e69f0-cfbb-11f0-b9e4-02af76d80f6f
DTSTAMP:20251202T201658Z
SUMMARY:Gaming Club
LOCATION:APMS Media Center
URL;VALUE=URI:https://www.arbor145.org/apms/calendar/8815780/gaming-club
DTSTART:20260401T193000Z
DTEND:20260401T204000Z
END:VEVENT
END:VCALENDAR
