BEGIN:VCALENDAR
VERSION:2.0
PRODID:SchoolNow
CALSCALE:GREGORIAN
BEGIN:VEVENT
UID:f41bf0cc-cfbb-11f0-9692-0a58a9feac02
DTSTAMP:20251202T201740Z
SUMMARY:Gaming Club
LOCATION:APMS Media Center
URL;VALUE=URI:https://www.arbor145.org/apms/calendar/8815781/gaming-club
DTSTART:20260408T193000Z
DTEND:20260408T204000Z
END:VEVENT
END:VCALENDAR
