BEGIN:VCALENDAR
VERSION:2.0
PRODID:SchoolNow
CALSCALE:GREGORIAN
BEGIN:VEVENT
UID:5aabf454-cfbc-11f0-ab83-0e8f1451c9fd
DTSTAMP:20251202T202033Z
SUMMARY:Gaming Club
LOCATION:APMS Media Center
URL;VALUE=URI:https://www.arbor145.org/apms/calendar/8815782/gaming-club
DTSTART:20260415T193000Z
DTEND:20260415T204000Z
END:VEVENT
END:VCALENDAR
