BEGIN:VCALENDAR
VERSION:2.0
PRODID:SchoolNow
CALSCALE:GREGORIAN
BEGIN:VEVENT
UID:6ef667b4-cfbc-11f0-bb5e-0a58a9feac02
DTSTAMP:20251202T202107Z
SUMMARY:Gaming Club
LOCATION:APMS Media Center
URL;VALUE=URI:https://www.arbor145.org/apms/calendar/8815783/gaming-club
DTSTART:20260422T193000Z
DTEND:20260422T204000Z
END:VEVENT
END:VCALENDAR
