BEGIN:VCALENDAR
VERSION:2.0
PRODID:SchoolNow
CALSCALE:GREGORIAN
BEGIN:VEVENT
UID:9bb4ba30-cfbc-11f0-85bd-02af76d80f6f
DTSTAMP:20251202T202222Z
SUMMARY:Gaming Club
LOCATION:APMS Media Center
URL;VALUE=URI:https://www.arbor145.org/apms/calendar/8815785/gaming-club
DTSTART:20260429T193000Z
DTEND:20260429T204000Z
END:VEVENT
END:VCALENDAR
