BEGIN:VCALENDAR
VERSION:2.0
PRODID:SchoolNow
CALSCALE:GREGORIAN
BEGIN:VEVENT
UID:af31ad20-cfbc-11f0-9fbd-0a58a9feac02
DTSTAMP:20251202T202254Z
SUMMARY:Gaming Club
LOCATION:APMS Media Center
URL;VALUE=URI:https://www.arbor145.org/apms/calendar/8815786/gaming-club
DTSTART:20260506T193000Z
DTEND:20260506T204000Z
END:VEVENT
END:VCALENDAR
