BEGIN:VCALENDAR
VERSION:2.0
PRODID:SchoolNow
CALSCALE:GREGORIAN
BEGIN:VEVENT
UID:698039a0-0e95-11f1-9943-0affe7921747
DTSTAMP:20260220T195030Z
SUMMARY:Declamation Meeting
LOCATION:A139
URL;VALUE=URI:https://www.arbor145.org/apms/calendar/8862813/declamation-me
 eting
DTSTART:20260305T203000Z
DTEND:20260305T214000Z
END:VEVENT
END:VCALENDAR
