BEGIN:VCALENDAR
VERSION:2.0
PRODID:SchoolNow
CALSCALE:GREGORIAN
BEGIN:VEVENT
UID:eea3c890-0e95-11f1-aa90-0a58a9feac02
DTSTAMP:20260220T195414Z
SUMMARY:Declamation Meeting
LOCATION:A139
URL;VALUE=URI:https://www.arbor145.org/apms/calendar/8862814/declamation-me
 eting
DTSTART:20260306T203000Z
DTEND:20260306T214000Z
END:VEVENT
END:VCALENDAR
