BEGIN:VCALENDAR
VERSION:2.0
PRODID:SchoolNow
CALSCALE:GREGORIAN
BEGIN:VEVENT
UID:19cf14ca-0e96-11f1-9b5c-0e7efa62387f
DTSTAMP:20260220T195526Z
SUMMARY:Declamation Meeting
LOCATION:A139
URL;VALUE=URI:https://www.arbor145.org/apms/calendar/8862815/declamation-me
 eting
DTSTART:20260312T193000Z
DTEND:20260312T204000Z
END:VEVENT
END:VCALENDAR
