BEGIN:VCALENDAR
VERSION:2.0
PRODID:SchoolNow
CALSCALE:GREGORIAN
BEGIN:VEVENT
UID:3cfd49a8-0e96-11f1-849a-0a58a9feac02
DTSTAMP:20260220T195625Z
SUMMARY:Declamation Meeting
LOCATION:A139
URL;VALUE=URI:https://www.arbor145.org/apms/calendar/8862816/declamation-me
 eting
DTSTART:20260313T193000Z
DTEND:20260313T204000Z
END:VEVENT
END:VCALENDAR
