BEGIN:VCALENDAR
VERSION:2.0
PRODID:SchoolNow
CALSCALE:GREGORIAN
BEGIN:VEVENT
UID:851e6faa-134b-11f1-bb5d-0a58a9feac02
DTSTAMP:20260226T194422Z
SUMMARY:Scholastic Bowl Meeting
LOCATION:A031
URL;VALUE=URI:https://www.arbor145.org/apms/calendar/8873563/scholastic-bow
 l-meeting
DTSTART:20260302T203000Z
DTEND:20260302T211500Z
END:VEVENT
END:VCALENDAR
