BEGIN:VCALENDAR
VERSION:2.0
PRODID:SchoolNow
CALSCALE:GREGORIAN
BEGIN:VEVENT
UID:f04a2cd6-166d-11f1-9966-0e2a2a433083
DTSTAMP:20260316T164725Z
SUMMARY:Girls Track Tryouts Day 1-Runners-CANCELLED
LOCATION:Arbor Park Middle School
URL;VALUE=URI:https://www.arbor145.org/apms/calendar/8884831/girls-track-tr
 youts-day-1-runners
DTSTART:20260316T193000Z
DTEND:20260316T210000Z
END:VEVENT
END:VCALENDAR
