BEGIN:VCALENDAR
VERSION:2.0
PRODID:SchoolNow
CALSCALE:GREGORIAN
BEGIN:VEVENT
UID:c7939b48-180b-11f1-b83f-0e7efa62387f
DTSTAMP:20260304T205029Z
SUMMARY:Scholastic Bowl Practice
LOCATION:A031
URL;VALUE=URI:https://www.arbor145.org/apms/calendar/8890997/scholastic-bow
 l-practice
DTSTART:20260309T193000Z
DTEND:20260309T201500Z
END:VEVENT
END:VCALENDAR
