BEGIN:VCALENDAR
VERSION:2.0
PRODID:SchoolNow
CALSCALE:GREGORIAN
BEGIN:VEVENT
UID:265e06ae-180c-11f1-b389-0a58a9feac02
DTSTAMP:20260304T205308Z
SUMMARY:Scholastic Bowl Practice
LOCATION:A031
URL;VALUE=URI:https://www.arbor145.org/apms/calendar/8890998/scholastic-bow
 l-practice
DTSTART:20260304T203000Z
DTEND:20260304T211500Z
END:VEVENT
END:VCALENDAR
