BEGIN:VCALENDAR
VERSION:2.0
PRODID:SchoolNow
CALSCALE:GREGORIAN
BEGIN:VEVENT
UID:8c153792-180c-11f1-8fc6-0a58a9feac02
DTSTAMP:20260304T205559Z
SUMMARY:Scholastic Bowl Practice
LOCATION:A031
URL;VALUE=URI:https://www.arbor145.org/apms/calendar/8890999/scholastic-bow
 l-practice
DTSTART:20260316T193000Z
DTEND:20260316T201500Z
END:VEVENT
END:VCALENDAR
