BEGIN:VCALENDAR
VERSION:2.0
PRODID:SchoolNow
CALSCALE:GREGORIAN
BEGIN:VEVENT
UID:b6e30ff8-180c-11f1-88af-029de128f86f
DTSTAMP:20260304T205711Z
SUMMARY:Scholastic Bowl Practice
LOCATION:A031
URL;VALUE=URI:https://www.arbor145.org/apms/calendar/8891000/scholastic-bow
 l-practice
DTSTART:20260330T193000Z
DTEND:20260330T201500Z
END:VEVENT
END:VCALENDAR
