BEGIN:VCALENDAR
VERSION:2.0
PRODID:SchoolNow
CALSCALE:GREGORIAN
BEGIN:VEVENT
UID:e3fbe24e-180c-11f1-9baf-0a58a9feac02
DTSTAMP:20260304T205826Z
SUMMARY:Scholastic Bowl Practice
LOCATION:A031
URL;VALUE=URI:https://www.arbor145.org/apms/calendar/8891001/scholastic-bow
 l-practice
DTSTART:20260413T193000Z
DTEND:20260413T201500Z
END:VEVENT
END:VCALENDAR
