BEGIN:VCALENDAR
VERSION:2.0
PRODID:SchoolNow
CALSCALE:GREGORIAN
BEGIN:VEVENT
UID:083c6804-180d-11f1-9adc-0261e2fd6d85
DTSTAMP:20260304T205927Z
SUMMARY:Scholastic Bowl Practice
LOCATION:A031
URL;VALUE=URI:https://www.arbor145.org/apms/calendar/8891002/scholastic-bow
 l-practice
DTSTART:20260415T193000Z
DTEND:20260415T201500Z
END:VEVENT
END:VCALENDAR
