BEGIN:VCALENDAR
VERSION:2.0
PRODID:SchoolNow
CALSCALE:GREGORIAN
BEGIN:VEVENT
UID:3e98c488-180d-11f1-9198-026d0a3ab0e5
DTSTAMP:20260304T210058Z
SUMMARY:Scholastic Bowl Practice
LOCATION:A031
URL;VALUE=URI:https://www.arbor145.org/apms/calendar/8891003/scholastic-bow
 l-practice
DTSTART:20260420T193000Z
DTEND:20260420T201500Z
END:VEVENT
END:VCALENDAR
