BEGIN:VCALENDAR
VERSION:2.0
PRODID:SchoolNow
CALSCALE:GREGORIAN
BEGIN:VEVENT
UID:56bcf124-180d-11f1-adb1-0a58a9feac02
DTSTAMP:20260304T210139Z
SUMMARY:Scholastic Bowl Practice
LOCATION:A031
URL;VALUE=URI:https://www.arbor145.org/apms/calendar/8891004/scholastic-bow
 l-practice
DTSTART:20260422T193000Z
DTEND:20260422T201500Z
END:VEVENT
END:VCALENDAR
