BEGIN:VCALENDAR
VERSION:2.0
PRODID:SchoolNow
CALSCALE:GREGORIAN
BEGIN:VEVENT
UID:ec20035e-1bec-11f1-9ce2-0a58a9feac02
DTSTAMP:20260309T191941Z
SUMMARY:English Language Acquisition Program
LOCATION:A023
URL;VALUE=URI:https://www.arbor145.org/apms/calendar/8905048/english-langua
 ge-acquisition-program
DTSTART:20260317T193000Z
DTEND:20260317T203000Z
END:VEVENT
END:VCALENDAR
