BEGIN:VCALENDAR
VERSION:2.0
PRODID:SchoolNow
CALSCALE:GREGORIAN
BEGIN:VEVENT
UID:0fecef68-1bed-11f1-9979-0a58a9feac02
DTSTAMP:20260309T192041Z
SUMMARY:English Language Acquisition Program
LOCATION:A023
URL;VALUE=URI:https://www.arbor145.org/apms/calendar/8905049/english-langua
 ge-acquisition-program
DTSTART:20260319T193000Z
DTEND:20260319T203000Z
END:VEVENT
END:VCALENDAR
