BEGIN:VCALENDAR
VERSION:2.0
PRODID:SchoolNow
CALSCALE:GREGORIAN
BEGIN:VEVENT
UID:3cfc76c2-1bed-11f1-9e78-0affc9cc228b
DTSTAMP:20260309T192156Z
SUMMARY:English Language Acquisition Program
LOCATION:A023
URL;VALUE=URI:https://www.arbor145.org/apms/calendar/8905051/english-langua
 ge-acquisition-program
DTSTART:20260326T193000Z
DTEND:20260326T203000Z
END:VEVENT
END:VCALENDAR
