BEGIN:VCALENDAR
VERSION:2.0
PRODID:SchoolNow
CALSCALE:GREGORIAN
BEGIN:VEVENT
UID:5975443c-1bed-11f1-9d88-0a58a9feac02
DTSTAMP:20260309T192244Z
SUMMARY:English Language Acquisition Program
LOCATION:A023
URL;VALUE=URI:https://www.arbor145.org/apms/calendar/8905052/english-langua
 ge-acquisition-program
DTSTART:20260331T193000Z
DTEND:20260331T203000Z
END:VEVENT
END:VCALENDAR
