BEGIN:VCALENDAR
VERSION:2.0
PRODID:SchoolNow
CALSCALE:GREGORIAN
BEGIN:VEVENT
UID:fb11aa10-1bed-11f1-804d-0a58a9feac02
DTSTAMP:20260309T192715Z
SUMMARY:English Language Acquisition Program
LOCATION:A023
URL;VALUE=URI:https://www.arbor145.org/apms/calendar/8905053/english-langua
 ge-acquisition-program
DTSTART:20260402T193000Z
DTEND:20260402T203000Z
END:VEVENT
END:VCALENDAR
