BEGIN:VCALENDAR
VERSION:2.0
PRODID:SchoolNow
CALSCALE:GREGORIAN
BEGIN:VEVENT
UID:6ff1cf36-1bee-11f1-94d9-02a5c0111cb7
DTSTAMP:20260309T193031Z
SUMMARY:English Language Acquisition Program
LOCATION:A023
URL;VALUE=URI:https://www.arbor145.org/apms/calendar/8905056/english-langua
 ge-acquisition-program
DTSTART:20260409T193000Z
DTEND:20260409T203000Z
END:VEVENT
END:VCALENDAR
