BEGIN:VCALENDAR
VERSION:2.0
PRODID:SchoolNow
CALSCALE:GREGORIAN
BEGIN:VEVENT
UID:a021ab9a-1bee-11f1-bfad-0affc9cc228b
DTSTAMP:20260309T193152Z
SUMMARY:English Language Acquisition Program
LOCATION:A023
URL;VALUE=URI:https://www.arbor145.org/apms/calendar/8905058/english-langua
 ge-acquisition-program
DTSTART:20260416T193000Z
DTEND:20260416T203000Z
END:VEVENT
END:VCALENDAR
