BEGIN:VCALENDAR
VERSION:2.0
PRODID:SchoolNow
CALSCALE:GREGORIAN
BEGIN:VEVENT
UID:c89d9458-1bee-11f1-bd96-0e2a2a433083
DTSTAMP:20260309T193300Z
SUMMARY:English Language Acquisition Program
LOCATION:A023
URL;VALUE=URI:https://www.arbor145.org/apms/calendar/8905059/english-langua
 ge-acquisition-program
DTSTART:20260421T193000Z
DTEND:20260421T203000Z
END:VEVENT
END:VCALENDAR
