BEGIN:VCALENDAR
VERSION:2.0
PRODID:SchoolNow
CALSCALE:GREGORIAN
BEGIN:VEVENT
UID:00d09de8-1bef-11f1-b5fc-0a58a9feac02
DTSTAMP:20260309T193435Z
SUMMARY:English Language Acquisition Program
LOCATION:A023
URL;VALUE=URI:https://www.arbor145.org/apms/calendar/8905061/english-langua
 ge-acquisition-program
DTSTART:20260428T193000Z
DTEND:20260428T203000Z
END:VEVENT
END:VCALENDAR
