BEGIN:VCALENDAR
VERSION:2.0
PRODID:SchoolNow
CALSCALE:GREGORIAN
BEGIN:VEVENT
UID:3057b830-1bef-11f1-aa88-0affe797ffeb
DTSTAMP:20260309T193554Z
SUMMARY:English Language Acquisition Program
LOCATION:A023
URL;VALUE=URI:https://www.arbor145.org/apms/calendar/8905062/english-langua
 ge-acquisition-program
DTSTART:20260430T193000Z
DTEND:20260430T203000Z
END:VEVENT
END:VCALENDAR
