BEGIN:VCALENDAR
VERSION:2.0
PRODID:SchoolNow
CALSCALE:GREGORIAN
BEGIN:VEVENT
UID:57504d94-1bef-11f1-9883-0a58a9feac02
DTSTAMP:20260309T193700Z
SUMMARY:English Language Acquisition Program
LOCATION:A023
URL;VALUE=URI:https://www.arbor145.org/apms/calendar/8905063/english-langua
 ge-acquisition-program
DTSTART:20260505T193000Z
DTEND:20260505T203000Z
END:VEVENT
END:VCALENDAR
