BEGIN:VCALENDAR
VERSION:2.0
PRODID:SchoolNow
CALSCALE:GREGORIAN
BEGIN:VEVENT
UID:6c8d955e-1bef-11f1-884b-0a58a9feac02
DTSTAMP:20260309T193735Z
SUMMARY:English Language Acquisition Program
LOCATION:A023
URL;VALUE=URI:https://www.arbor145.org/apms/calendar/8905064/english-langua
 ge-acquisition-program
DTSTART:20260507T193000Z
DTEND:20260507T203000Z
END:VEVENT
END:VCALENDAR
