BEGIN:VCALENDAR
VERSION:2.0
PRODID:SchoolNow
CALSCALE:GREGORIAN
BEGIN:VEVENT
UID:e5b50fae-1d64-11f1-a1c8-0a58a9feac02
DTSTAMP:20260311T161101Z
SUMMARY:Girls Soccer Practice
LOCATION:Arbor Park Middle School
URL;VALUE=URI:https://www.arbor145.org/apms/calendar/8910267/girls-soccer-p
 ractice
DTSTART:20260311T193000Z
DTEND:20260311T204500Z
END:VEVENT
END:VCALENDAR
