BEGIN:VCALENDAR
VERSION:2.0
PRODID:SchoolNow
CALSCALE:GREGORIAN
BEGIN:VEVENT
UID:e3806b0e-1d6c-11f1-99e0-0affe797ffeb
DTSTAMP:20260311T170953Z
SUMMARY:Boys Soccer Practice
LOCATION:Arbor Park Middle School
URL;VALUE=URI:https://www.arbor145.org/apms/calendar/8910271/boys-soccer-pr
 actice
DTSTART:20260312T193000Z
DTEND:20260312T204500Z
END:VEVENT
END:VCALENDAR
