BEGIN:VCALENDAR
VERSION:2.0
PRODID:SchoolNow
CALSCALE:GREGORIAN
BEGIN:VEVENT
UID:419aff9c-1d6d-11f1-b92c-027c42f35a8d
DTSTAMP:20260311T171051Z
SUMMARY:Girls Soccer Practice
LOCATION:Arbor Park Middle School
URL;VALUE=URI:https://www.arbor145.org/apms/calendar/8910272/girls-soccer-p
 ractice
DTSTART:20260316T193000Z
DTEND:20260316T204500Z
END:VEVENT
END:VCALENDAR
