BEGIN:VCALENDAR
VERSION:2.0
PRODID:SchoolNow
CALSCALE:GREGORIAN
BEGIN:VEVENT
UID:ff41ddb2-1d78-11f1-a94d-0a58a9feac02
DTSTAMP:20260311T183454Z
SUMMARY:Boys Soccer Practice
LOCATION:Arbor Park Middle School
URL;VALUE=URI:https://www.arbor145.org/apms/calendar/8910302/boys-soccer-pr
 actice
DTSTART:20260317T193000Z
DTEND:20260317T204500Z
END:VEVENT
END:VCALENDAR
