BEGIN:VCALENDAR
VERSION:2.0
PRODID:SchoolNow
CALSCALE:GREGORIAN
BEGIN:VEVENT
UID:6f44d1aa-1d79-11f1-9a29-0a58a9feac02
DTSTAMP:20260311T183802Z
SUMMARY:Girls Soccer Practice
LOCATION:Arbor Park Middle School
URL;VALUE=URI:https://www.arbor145.org/apms/calendar/8910303/girls-soccer-p
 ractice
DTSTART:20260318T193000Z
DTEND:20260318T210000Z
END:VEVENT
END:VCALENDAR
