BEGIN:VCALENDAR
VERSION:2.0
PRODID:SchoolNow
CALSCALE:GREGORIAN
BEGIN:VEVENT
UID:beb29d58-1d79-11f1-87a1-0afffe5f63e5
DTSTAMP:20260311T184015Z
SUMMARY:Boys Soccer Practice
LOCATION:Arbor Park Middle School
URL;VALUE=URI:https://www.arbor145.org/apms/calendar/8910304/boys-soccer-pr
 actice
DTSTART:20260319T193000Z
DTEND:20260319T210000Z
END:VEVENT
END:VCALENDAR
